BEGIN:VCALENDAR
VERSION:2.0
PRODID:DPCALENDAR
CALSCALE:GREGORIAN
BEGIN:VTIMEZONE
TZID:Europe/Berlin
X-MICROSOFT-CDO-TZID:4
BEGIN:STANDARD
DTSTART:20251026T010000
TZOFFSETFROM:+0200
TZOFFSETTO:+0100
TZNAME:CET
END:STANDARD
BEGIN:STANDARD
DTSTART:20261025T010000
TZOFFSETFROM:+0200
TZOFFSETTO:+0100
TZNAME:CET
END:STANDARD
BEGIN:DAYLIGHT
DTSTART:20260329T010000
TZOFFSETFROM:+0100
TZOFFSETTO:+0200
TZNAME:CEST
END:DAYLIGHT
END:VTIMEZONE
X-WR-TIMEZONE:Europe/Berlin
BEGIN:VEVENT
DTSTART;TZID=Europe/Berlin:20250106T171500
DTEND;TZID=Europe/Berlin:20250106T181500
UID:D4140271-7375-4140-9A98-D5EF54285DF6
SUMMARY:Dienst "KF"
CREATED:20250216T164249Z
DTSTAMP:20250216T164249Z
URL:https://www.stadtfeuerwehr-ho.de/ortswehr/poetzen/kalender/dienst-kf-39.html
LAST-MODIFIED:20250216T164732Z
SEQUENCE:283
LOCATION:Haarberg\, 31840 Hessisch Oldendorf
GEO:52.16650040;9.24406670
X-LOCATION-DISPLAYNAME:Feuerwehrhaus Pötzen
X-ACCESS:1
X-HITS:0
X-COLOR:02bd2e
X-SHOW-END-TIME:1
END:VEVENT
BEGIN:VEVENT
DTSTART;TZID=Europe/Berlin:20250120T171500
DTEND;TZID=Europe/Berlin:20250120T181500
UID:012F31BB-B5B2-49F9-AFF7-2D116830C712
SUMMARY:Dienst "KF"
CREATED:20250216T164404Z
DTSTAMP:20250216T164404Z
URL:https://www.stadtfeuerwehr-ho.de/ortswehr/poetzen/kalender/dienst-kf-40.html
LAST-MODIFIED:20250216T164743Z
SEQUENCE:219
LOCATION:Pötzer Straße 1\, 31840 Hessisch Oldendorf
GEO:52.16943830;9.34494667
X-LOCATION-DISPLAYNAME:Feuerwehrhaus Haddessen
X-ACCESS:1
X-HITS:0
X-COLOR:02bd2e
X-SHOW-END-TIME:1
END:VEVENT
BEGIN:VEVENT
DTSTART;VALUE=DATE:20250131
DTEND;VALUE=DATE:20250202
UID:C42944DC-50FA-456F-83E5-839A07F7DF92
SUMMARY:Übernachtung FFW Haus
CREATED:20250216T164449Z
DTSTAMP:20250216T164449Z
URL:https://www.stadtfeuerwehr-ho.de/ortswehr/poetzen/kalender/übernachtung-ffw-haus.html
LAST-MODIFIED:20250216T164449Z
SEQUENCE:0
LOCATION:Haarberg\, 31840 Hessisch Oldendorf
GEO:52.16650040;9.24406670
X-LOCATION-DISPLAYNAME:Feuerwehrhaus Pötzen
X-ACCESS:1
X-HITS:0
X-COLOR:02bd2e
X-SHOW-END-TIME:0
END:VEVENT
BEGIN:VEVENT
DTSTART;TZID=Europe/Berlin:20250217T171500
DTEND;TZID=Europe/Berlin:20250217T181500
UID:C1372F86-262D-4A5E-9DA9-F6D8E691576D
SUMMARY:Dienst "KF"
CREATED:20250216T164547Z
DTSTAMP:20250216T164547Z
URL:https://www.stadtfeuerwehr-ho.de/ortswehr/poetzen/kalender/dienst-kf-41.html
LAST-MODIFIED:20250216T164756Z
SEQUENCE:129
LOCATION:Pötzer Straße 1\, 31840 Hessisch Oldendorf
GEO:52.16943830;9.34494667
X-LOCATION-DISPLAYNAME:Feuerwehrhaus Haddessen
X-ACCESS:1
X-HITS:0
X-COLOR:02bd2e
X-SHOW-END-TIME:1
END:VEVENT
BEGIN:VEVENT
DTSTART;TZID=Europe/Berlin:20250303T171500
DTEND;TZID=Europe/Berlin:20250303T181500
UID:A51A6C6B-8FBF-416D-A739-EA42060F2C46
SUMMARY:Dienst "KF"
CREATED:20250216T164616Z
DTSTAMP:20250216T164616Z
URL:https://www.stadtfeuerwehr-ho.de/ortswehr/poetzen/kalender/dienst-kf-42.html
DESCRIPTION:Thema: Karneval
X-ALT-DESC;FMTTYPE=text/html:<p>Thema: Karneval</p>
LAST-MODIFIED:20250216T164805Z
SEQUENCE:109
LOCATION:Haarberg\, 31840 Hessisch Oldendorf
GEO:52.16650040;9.24406670
X-LOCATION-DISPLAYNAME:Feuerwehrhaus Pötzen
X-ACCESS:1
X-HITS:0
X-COLOR:02bd2e
X-SHOW-END-TIME:1
END:VEVENT
BEGIN:VEVENT
DTSTART;TZID=Europe/Berlin:20250317T171500
DTEND;TZID=Europe/Berlin:20250317T181500
UID:AB2DC654-ABFE-44E4-9B7E-9071473ADB1F
SUMMARY:Dienst "KF"
CREATED:20250216T164652Z
DTSTAMP:20250216T164652Z
URL:https://www.stadtfeuerwehr-ho.de/ortswehr/poetzen/kalender/dienst-kf-43.html
LAST-MODIFIED:20250216T164816Z
SEQUENCE:84
LOCATION:Pötzer Straße 1\, 31840 Hessisch Oldendorf
GEO:52.16943830;9.34494667
X-LOCATION-DISPLAYNAME:Feuerwehrhaus Haddessen
X-ACCESS:1
X-HITS:0
X-COLOR:02bd2e
X-SHOW-END-TIME:1
END:VEVENT
BEGIN:VEVENT
DTSTART;TZID=Europe/Berlin:20250331T171500
DTEND;TZID=Europe/Berlin:20250331T181500
UID:78DEE7BB-7C3A-4042-A4D4-9118ADEA700B
SUMMARY:Dienst "KF"
CREATED:20250216T164724Z
DTSTAMP:20250216T164724Z
URL:https://www.stadtfeuerwehr-ho.de/ortswehr/poetzen/kalender/dienst-kf-44.html
LAST-MODIFIED:20250216T164724Z
SEQUENCE:0
LOCATION:Haarberg\, 31840 Hessisch Oldendorf
GEO:52.16650040;9.24406670
X-LOCATION-DISPLAYNAME:Feuerwehrhaus Pötzen
X-ACCESS:1
X-HITS:0
X-COLOR:02bd2e
X-SHOW-END-TIME:1
END:VEVENT
BEGIN:VEVENT
DTSTART;TZID=Europe/Berlin:20250405T100000
DTEND;TZID=Europe/Berlin:20250405T110000
UID:398E4B2B-111E-4999-BEBE-B78AECE91474
SUMMARY:Umwelttag
CREATED:20250216T164904Z
DTSTAMP:20250216T164904Z
URL:https://www.stadtfeuerwehr-ho.de/ortswehr/poetzen/kalender/umwelttag-14.html
DESCRIPTION:Abschluss in Haddessen
X-ALT-DESC;FMTTYPE=text/html:<p>Abschluss in Haddessen</p>
LAST-MODIFIED:20250216T164904Z
SEQUENCE:0
LOCATION:Haarberg\, 31840 Hessisch Oldendorf
GEO:52.16650040;9.24406670
X-LOCATION-DISPLAYNAME:Feuerwehrhaus Pötzen
X-ACCESS:1
X-HITS:0
X-COLOR:02bd2e
X-SHOW-END-TIME:0
END:VEVENT
BEGIN:VEVENT
DTSTART;TZID=Europe/Berlin:20250426T100000
DTEND;TZID=Europe/Berlin:20250426T110000
UID:F164E166-2626-47F1-AC18-8DB638ED3987
SUMMARY:Dienst "KF"
CREATED:20250216T164944Z
DTSTAMP:20250216T164944Z
URL:https://www.stadtfeuerwehr-ho.de/ortswehr/poetzen/kalender/dienst-kf-45.html
DESCRIPTION:Thema: Funk- und Fahrübung gemeinsam mit der JFW
X-ALT-DESC;FMTTYPE=text/html:<p>Thema: Funk- und Fahrübung gemeinsam mit der JFW</p>
LAST-MODIFIED:20250216T164944Z
SEQUENCE:0
X-ACCESS:1
X-HITS:0
X-COLOR:02bd2e
X-SHOW-END-TIME:0
END:VEVENT
BEGIN:VEVENT
DTSTART;VALUE=DATE:20250428
DTEND;VALUE=DATE:20250429
UID:2F944DFF-B9BA-466C-8779-2EE32BC7C50D
SUMMARY:Dienst "KF"
CREATED:20250216T165028Z
DTSTAMP:20250216T165028Z
URL:https://www.stadtfeuerwehr-ho.de/ortswehr/poetzen/kalender/dienst-kf-46.html
DESCRIPTION:Thema: Besuch Feuerwehr Hessisch Oldendorf
X-ALT-DESC;FMTTYPE=text/html:<p>Thema: Besuch Feuerwehr Hessisch Oldendorf</p>
LAST-MODIFIED:20250216T165028Z
SEQUENCE:0
LOCATION:Steinbrinksweg 3\, 31840 Hessisch Oldendorf\, Deutschland
GEO:52.16614035;9.25416615
X-LOCATION-DISPLAYNAME:Feuerwehrhaus Hessisch Oldendorf
X-ACCESS:1
X-HITS:0
X-COLOR:02bd2e
X-SHOW-END-TIME:0
END:VEVENT
BEGIN:VEVENT
DTSTART;TZID=Europe/Berlin:20250512T171500
DTEND;TZID=Europe/Berlin:20250512T181500
UID:5EBAF6A3-7515-4BD1-BC09-DA71A8E6B121
SUMMARY:Dienst "KF"
CREATED:20250216T165103Z
DTSTAMP:20250216T165103Z
URL:https://www.stadtfeuerwehr-ho.de/ortswehr/poetzen/kalender/dienst-kf-47.html
LAST-MODIFIED:20250216T165103Z
SEQUENCE:0
LOCATION:Haarberg\, 31840 Hessisch Oldendorf
GEO:52.16650040;9.24406670
X-LOCATION-DISPLAYNAME:Feuerwehrhaus Pötzen
X-ACCESS:1
X-HITS:0
X-COLOR:02bd2e
X-SHOW-END-TIME:1
END:VEVENT
BEGIN:VEVENT
DTSTART;VALUE=DATE:20250524
DTEND;VALUE=DATE:20250525
UID:A2363A06-7661-4E8D-8A29-5E042F89A9EB
SUMMARY:Abnahme Brandfloh
CREATED:20250216T165133Z
DTSTAMP:20250216T165133Z
URL:https://www.stadtfeuerwehr-ho.de/ortswehr/poetzen/kalender/abnahme-brandfloh-3.html
LAST-MODIFIED:20250216T165133Z
SEQUENCE:0
LOCATION:31855 Aerzen\, Niedersachsen\, Deutschland
GEO:52.03073990;9.29489180
X-LOCATION-DISPLAYNAME:Aerzen
X-ACCESS:1
X-HITS:0
X-COLOR:02bd2e
X-SHOW-END-TIME:0
END:VEVENT
BEGIN:VEVENT
DTSTART;TZID=Europe/Berlin:20250526T171500
DTEND;TZID=Europe/Berlin:20250526T181500
UID:2359ABA1-D27B-4A54-97EF-02DB0CEE3CC8
SUMMARY:Dienst "KF"
CREATED:20250216T165207Z
DTSTAMP:20250216T165207Z
URL:https://www.stadtfeuerwehr-ho.de/ortswehr/poetzen/kalender/dienst-kf-48.html
LAST-MODIFIED:20250216T165207Z
SEQUENCE:0
LOCATION:Pötzer Straße 1\, 31840 Hessisch Oldendorf
GEO:52.16943830;9.34494667
X-LOCATION-DISPLAYNAME:Feuerwehrhaus Haddessen
X-ACCESS:1
X-HITS:0
X-COLOR:02bd2e
X-SHOW-END-TIME:1
END:VEVENT
BEGIN:VEVENT
DTSTART;TZID=Europe/Berlin:20250623T171500
DTEND;TZID=Europe/Berlin:20250623T181500
UID:4FB9FB58-8CEA-4976-B5CA-83B318DE097C
SUMMARY:Dienst "KF"
CREATED:20250216T165245Z
DTSTAMP:20250216T165245Z
URL:https://www.stadtfeuerwehr-ho.de/ortswehr/poetzen/kalender/dienst-kf-49.html
LAST-MODIFIED:20250216T165245Z
SEQUENCE:0
LOCATION:Haarberg\, 31840 Hessisch Oldendorf
GEO:52.16650040;9.24406670
X-LOCATION-DISPLAYNAME:Feuerwehrhaus Pötzen
X-ACCESS:1
X-HITS:0
X-COLOR:02bd2e
X-SHOW-END-TIME:1
END:VEVENT
BEGIN:VEVENT
DTSTART;VALUE=DATE:20250628
DTEND;VALUE=DATE:20250629
UID:6C3FF944-AA31-4002-B735-93EC0B8D2406
SUMMARY:Fahrt ins Rastiland
CREATED:20250216T165321Z
DTSTAMP:20250216T165321Z
URL:https://www.stadtfeuerwehr-ho.de/ortswehr/poetzen/kalender/fahrt-ins-rastiland-4.html
LAST-MODIFIED:20250216T165321Z
SEQUENCE:0
LOCATION:31020 Salzhemmendorf\, Niedersachsen\, Deutschland
GEO:52.09342160;9.65168850
X-LOCATION-DISPLAYNAME:Benstorf
X-ACCESS:1
X-HITS:0
X-COLOR:02bd2e
X-SHOW-END-TIME:0
END:VEVENT
BEGIN:VEVENT
DTSTART;TZID=Europe/Berlin:20250818T171500
DTEND;TZID=Europe/Berlin:20250818T181500
UID:2350DEA8-53FE-4984-BFE3-61542B7C9FD5
SUMMARY:Dienst "KF"
CREATED:20250216T170844Z
DTSTAMP:20250216T170844Z
URL:https://www.stadtfeuerwehr-ho.de/ortswehr/poetzen/kalender/dienst-kf-57.html
LAST-MODIFIED:20250216T170844Z
SEQUENCE:0
LOCATION:Pötzer Straße 1\, 31840 Hessisch Oldendorf
GEO:52.16943830;9.34494667
X-LOCATION-DISPLAYNAME:Feuerwehrhaus Haddessen
X-ACCESS:1
X-HITS:0
X-COLOR:02bd2e
X-SHOW-END-TIME:1
END:VEVENT
BEGIN:VEVENT
DTSTART;TZID=Europe/Berlin:20250821T171500
DTEND;TZID=Europe/Berlin:20250821T184500
UID:571049E2-0839-4F1A-9EA5-E3355C7FC30A
SUMMARY:Dienst "KF"
CREATED:20250216T165642Z
DTSTAMP:20250216T165642Z
URL:https://www.stadtfeuerwehr-ho.de/ortswehr/poetzen/kalender/dienst-kf-50.html
DESCRIPTION:Thema: Hydranten-Ralley gemeinsam mit der JFW
X-ALT-DESC;FMTTYPE=text/html:<p>Thema: Hydranten-Ralley gemeinsam mit der JFW</p>
LAST-MODIFIED:20250216T170916Z
SEQUENCE:754
LOCATION:Pötzer Straße 1\, 31840 Hessisch Oldendorf
GEO:52.16943830;9.34494667
X-LOCATION-DISPLAYNAME:Feuerwehrhaus Haddessen
X-ACCESS:1
X-HITS:0
X-COLOR:02bd2e
X-SHOW-END-TIME:1
END:VEVENT
BEGIN:VEVENT
DTSTART;VALUE=DATE:20250830
DTEND;VALUE=DATE:20250831
UID:11DE7F56-7C7D-4EDF-9711-D1B5927F60E8
SUMMARY:Tag der offenen Tür 
CREATED:20250216T165725Z
DTSTAMP:20250216T165725Z
URL:https://www.stadtfeuerwehr-ho.de/ortswehr/poetzen/kalender/tag-der-offenen-tür-5.html
LAST-MODIFIED:20250216T165725Z
SEQUENCE:0
LOCATION:Pötzer Straße 1\, 31840 Hessisch Oldendorf
GEO:52.16943830;9.34494667
X-LOCATION-DISPLAYNAME:Feuerwehrhaus Haddessen
X-ACCESS:1
X-HITS:0
X-COLOR:02bd2e
X-SHOW-END-TIME:0
END:VEVENT
BEGIN:VEVENT
DTSTART;TZID=Europe/Berlin:20250901T171500
DTEND;TZID=Europe/Berlin:20250901T181500
UID:E839205D-6A11-415E-A54E-59C1C45B82B2
SUMMARY:Dienst "KF"
CREATED:20250216T165812Z
DTSTAMP:20250216T165812Z
URL:https://www.stadtfeuerwehr-ho.de/ortswehr/poetzen/kalender/dienst-kf-51.html
LAST-MODIFIED:20250216T170932Z
SEQUENCE:680
LOCATION:Haarberg\, 31840 Hessisch Oldendorf
GEO:52.16650040;9.24406670
X-LOCATION-DISPLAYNAME:Feuerwehrhaus Pötzen
X-ACCESS:1
X-HITS:0
X-COLOR:02bd2e
X-SHOW-END-TIME:1
END:VEVENT
BEGIN:VEVENT
DTSTART;VALUE=DATE:20250913
DTEND;VALUE=DATE:20250914
UID:C84D4593-A8F0-41D5-AE57-5C4F918989C3
SUMMARY:Spaßmarsch
CREATED:20250216T165849Z
DTSTAMP:20250216T165849Z
URL:https://www.stadtfeuerwehr-ho.de/ortswehr/poetzen/kalender/spaßmarsch.html
LAST-MODIFIED:20250216T165849Z
SEQUENCE:0
LOCATION:31840 Hessisch Oldendorf\, Niedersachsen\, Deutschland
GEO:52.16650040;9.24406670
X-LOCATION-DISPLAYNAME:Hessisch Oldendorf
X-ACCESS:1
X-HITS:0
X-COLOR:02bd2e
X-SHOW-END-TIME:0
END:VEVENT
BEGIN:VEVENT
DTSTART;TZID=Europe/Berlin:20250915T171500
DTEND;TZID=Europe/Berlin:20250915T181500
UID:5A0048C8-AE83-4C44-8B7F-9A192F2580A2
SUMMARY:Dienst "KF"
CREATED:20250216T165958Z
DTSTAMP:20250216T165958Z
URL:https://www.stadtfeuerwehr-ho.de/ortswehr/poetzen/kalender/dienst-kf-52.html
LAST-MODIFIED:20250216T165958Z
SEQUENCE:0
LOCATION:Pötzer Straße 1\, 31840 Hessisch Oldendorf
GEO:52.16943830;9.34494667
X-LOCATION-DISPLAYNAME:Feuerwehrhaus Haddessen
X-ACCESS:1
X-HITS:0
X-COLOR:02bd2e
X-SHOW-END-TIME:1
END:VEVENT
BEGIN:VEVENT
DTSTART;VALUE=DATE:20250920
DTEND;VALUE=DATE:20250921
UID:6A250694-2828-489E-B190-FBF4FC1D849E
SUMMARY:Abnahme Kinderflamme 1+2
CREATED:20250216T170035Z
DTSTAMP:20250216T170035Z
URL:https://www.stadtfeuerwehr-ho.de/ortswehr/poetzen/kalender/abnahme-kinderflamme-1-2.html
LAST-MODIFIED:20250216T170035Z
SEQUENCE:0
LOCATION:31840 Hessisch Oldendorf\, Niedersachsen\, Deutschland
GEO:52.16249380;9.32283580
X-LOCATION-DISPLAYNAME:Höfingen
X-ACCESS:1
X-HITS:0
X-COLOR:02bd2e
X-SHOW-END-TIME:0
END:VEVENT
BEGIN:VEVENT
DTSTART;TZID=Europe/Berlin:20250929T171500
DTEND;TZID=Europe/Berlin:20250929T171500
UID:01DB4977-0ADE-42A6-BD78-DA7279CA9592
SUMMARY:Dienst "KF"
CREATED:20250216T170109Z
DTSTAMP:20250216T170109Z
URL:https://www.stadtfeuerwehr-ho.de/ortswehr/poetzen/kalender/dienst-kf-53.html
LAST-MODIFIED:20250216T171009Z
SEQUENCE:540
LOCATION:Haarberg\, 31840 Hessisch Oldendorf
GEO:52.16650040;9.24406670
X-LOCATION-DISPLAYNAME:Feuerwehrhaus Pötzen
X-ACCESS:1
X-HITS:0
X-COLOR:02bd2e
X-SHOW-END-TIME:1
END:VEVENT
BEGIN:VEVENT
DTSTART;VALUE=DATE:20251010
DTEND;VALUE=DATE:20251013
UID:7D8D9C8D-B2AB-4096-AEA5-1A86E1A6C99B
SUMMARY:Vagabundierendes Lager
CREATED:20250216T170133Z
DTSTAMP:20250216T170133Z
URL:https://www.stadtfeuerwehr-ho.de/ortswehr/poetzen/kalender/vagabundierendes-lager-2.html
LAST-MODIFIED:20250216T170133Z
SEQUENCE:0
X-ACCESS:1
X-HITS:0
X-COLOR:02bd2e
X-SHOW-END-TIME:0
END:VEVENT
BEGIN:VEVENT
DTSTART;TZID=Europe/Berlin:20251027T171500
DTEND;TZID=Europe/Berlin:20251027T181500
UID:750CC50A-1597-4462-A92D-290E3EF9B820
SUMMARY:Dienst "KF"
CREATED:20250216T170201Z
DTSTAMP:20250216T170201Z
URL:https://www.stadtfeuerwehr-ho.de/ortswehr/poetzen/kalender/dienst-kf-54.html
LAST-MODIFIED:20250216T171106Z
SEQUENCE:545
LOCATION:Pötzer Straße 1\, 31840 Hessisch Oldendorf
GEO:52.16943830;9.34494667
X-LOCATION-DISPLAYNAME:Feuerwehrhaus Haddessen
X-ACCESS:1
X-HITS:0
X-COLOR:02bd2e
X-SHOW-END-TIME:1
END:VEVENT
BEGIN:VEVENT
DTSTART;VALUE=DATE:20251108
DTEND;VALUE=DATE:20251109
UID:90DDCC37-6093-49B9-8468-05D2D2D4CCF4
SUMMARY:Abnahme Kinderflamme 3
CREATED:20250216T170231Z
DTSTAMP:20250216T170231Z
URL:https://www.stadtfeuerwehr-ho.de/ortswehr/poetzen/kalender/abnahme-kinderflamme-4.html
LAST-MODIFIED:20250216T170231Z
SEQUENCE:0
LOCATION:31848 Bad Münder am Deister\, Niedersachsen\, Deutschland
GEO:52.25911650;9.44423230
X-LOCATION-DISPLAYNAME:Flegessen
X-ACCESS:1
X-HITS:0
X-COLOR:02bd2e
X-SHOW-END-TIME:0
END:VEVENT
BEGIN:VEVENT
DTSTART;TZID=Europe/Berlin:20251110T163000
DTEND;TZID=Europe/Berlin:20251110T180000
UID:7E2E6A4C-F09F-4FCE-A5AA-4B32832BAF4D
SUMMARY:Martinssingen
CREATED:20250216T170322Z
DTSTAMP:20250216T170322Z
URL:https://www.stadtfeuerwehr-ho.de/ortswehr/poetzen/kalender/martinssingen.html
LAST-MODIFIED:20250216T171142Z
SEQUENCE:500
LOCATION:Pötzer Straße 1\, 31840 Hessisch Oldendorf
GEO:52.16943830;9.34494667
X-LOCATION-DISPLAYNAME:Feuerwehrhaus Haddessen
X-ACCESS:1
X-HITS:0
X-COLOR:02bd2e
X-SHOW-END-TIME:1
END:VEVENT
BEGIN:VEVENT
DTSTART;TZID=Europe/Berlin:20251124T171500
DTEND;TZID=Europe/Berlin:20251124T181500
UID:10BB017F-B74A-4A25-96E7-35D5045025C3
SUMMARY:Dienst "KF"
CREATED:20250216T170410Z
DTSTAMP:20250216T170410Z
URL:https://www.stadtfeuerwehr-ho.de/ortswehr/poetzen/kalender/dienst-kf-55.html
LAST-MODIFIED:20250216T170410Z
SEQUENCE:0
LOCATION:Haarberg\, 31840 Hessisch Oldendorf
GEO:52.16650040;9.24406670
X-LOCATION-DISPLAYNAME:Feuerwehrhaus Pötzen
X-ACCESS:1
X-HITS:0
X-COLOR:02bd2e
X-SHOW-END-TIME:1
END:VEVENT
BEGIN:VEVENT
DTSTART;VALUE=DATE:20251128
DTEND;VALUE=DATE:20251129
UID:D02CBDF7-9334-4203-9C41-CD6D0F5B6D59
SUMMARY:Pötzer Advent
CREATED:20250216T170557Z
DTSTAMP:20250216T170557Z
URL:https://www.stadtfeuerwehr-ho.de/ortswehr/poetzen/kalender/pötzer-advent-2.html
LAST-MODIFIED:20250216T170557Z
SEQUENCE:0
LOCATION:Pötzer Straße 1\, 31840 Hessisch Oldendorf
GEO:52.16943830;9.34494667
X-LOCATION-DISPLAYNAME:Feuerwehrhaus Haddessen
X-ACCESS:1
X-HITS:0
X-COLOR:02bd2e
X-SHOW-END-TIME:0
END:VEVENT
BEGIN:VEVENT
DTSTART;TZID=Europe/Berlin:20251129T150000
DTEND;TZID=Europe/Berlin:20251129T160000
UID:D24E8F8D-F9FD-493A-A9A8-E9AB4322BB0A
SUMMARY:Weihnachtsbaum schmücken
CREATED:20250216T170637Z
DTSTAMP:20250216T170637Z
URL:https://www.stadtfeuerwehr-ho.de/ortswehr/poetzen/kalender/weihnachtsbaum-schmücken.html
LAST-MODIFIED:20250216T170637Z
SEQUENCE:0
LOCATION:Pötzer Straße 1\, 31840 Hessisch Oldendorf
GEO:52.16943830;9.34494667
X-LOCATION-DISPLAYNAME:Feuerwehrhaus Haddessen
X-ACCESS:1
X-HITS:0
X-COLOR:02bd2e
X-SHOW-END-TIME:0
END:VEVENT
BEGIN:VEVENT
DTSTART;VALUE=DATE:20251208
DTEND;VALUE=DATE:20251209
UID:9F44B8B0-188C-422C-8E19-C194E4DBD376
SUMMARY:Dienst "KF"
CREATED:20250216T170725Z
DTSTAMP:20250216T170725Z
URL:https://www.stadtfeuerwehr-ho.de/ortswehr/poetzen/kalender/dienst-kf-56.html
DESCRIPTION:Thema: Kekse Backen Weihnachtsmarkt Hameln
X-ALT-DESC;FMTTYPE=text/html:<p>Thema: Kekse Backen Weihnachtsmarkt Hameln</p>
LAST-MODIFIED:20250216T170725Z
SEQUENCE:0
LOCATION:31785 Hameln\, Niedersachsen\, Deutschland
GEO:52.10255235;9.35155880
X-LOCATION-DISPLAYNAME:Hameln
X-ACCESS:1
X-HITS:0
X-COLOR:02bd2e
X-SHOW-END-TIME:0
END:VEVENT
END:VCALENDAR